BEGIN:VCALENDAR
VERSION:2.0
PRODID:-//Merced Hispanic Chamber of Commerce - ECPv6.15.20//NONSGML v1.0//EN
CALSCALE:GREGORIAN
METHOD:PUBLISH
X-WR-CALNAME:Merced Hispanic Chamber of Commerce
X-ORIGINAL-URL:http://mercedhcc.com
X-WR-CALDESC:Events for Merced Hispanic Chamber of Commerce
REFRESH-INTERVAL;VALUE=DURATION:PT1H
X-Robots-Tag:noindex
X-PUBLISHED-TTL:PT1H
BEGIN:VTIMEZONE
TZID:America/Los_Angeles
BEGIN:DAYLIGHT
TZOFFSETFROM:-0800
TZOFFSETTO:-0700
TZNAME:PDT
DTSTART:20200308T100000
END:DAYLIGHT
BEGIN:STANDARD
TZOFFSETFROM:-0700
TZOFFSETTO:-0800
TZNAME:PST
DTSTART:20201101T090000
END:STANDARD
BEGIN:DAYLIGHT
TZOFFSETFROM:-0800
TZOFFSETTO:-0700
TZNAME:PDT
DTSTART:20210314T100000
END:DAYLIGHT
BEGIN:STANDARD
TZOFFSETFROM:-0700
TZOFFSETTO:-0800
TZNAME:PST
DTSTART:20211107T090000
END:STANDARD
BEGIN:DAYLIGHT
TZOFFSETFROM:-0800
TZOFFSETTO:-0700
TZNAME:PDT
DTSTART:20220313T100000
END:DAYLIGHT
BEGIN:STANDARD
TZOFFSETFROM:-0700
TZOFFSETTO:-0800
TZNAME:PST
DTSTART:20221106T090000
END:STANDARD
BEGIN:DAYLIGHT
TZOFFSETFROM:-0800
TZOFFSETTO:-0700
TZNAME:PDT
DTSTART:20230312T100000
END:DAYLIGHT
BEGIN:STANDARD
TZOFFSETFROM:-0700
TZOFFSETTO:-0800
TZNAME:PST
DTSTART:20231105T090000
END:STANDARD
BEGIN:DAYLIGHT
TZOFFSETFROM:-0800
TZOFFSETTO:-0700
TZNAME:PDT
DTSTART:20240310T100000
END:DAYLIGHT
BEGIN:STANDARD
TZOFFSETFROM:-0700
TZOFFSETTO:-0800
TZNAME:PST
DTSTART:20241103T090000
END:STANDARD
END:VTIMEZONE
BEGIN:VEVENT
DTSTART;TZID=America/Los_Angeles:20230907T180000
DTEND;TZID=America/Los_Angeles:20230907T210000
DTSTAMP:20260419T083751
CREATED:20230815T193043Z
LAST-MODIFIED:20230815T193043Z
UID:37314-1694109600-1694120400@mercedhcc.com
SUMMARY:"Noche de Rodeo" Mercado Night Market
DESCRIPTION:El Mercado Nocturno “Noche de Rodeo” se crea para conectar a nuestras empresas\, organizaciones\, artistas y artistas locales con la comunidad. \n El evento cuenta con entrada gratis. \n Una velada llena de diversión familiar. Invitamos a la comunidad a salir con su mejor atuendo occidental y participar en el tema del evento.  \n-Los vendedores de comida venden una variedad de cocinas\, golosinas y dulces. \n-Comercios locales que venden sus servicios y productos. \n-Actuación de música en vivo de Rob. G Variety Band en Bob Hart Square.  \n-Muralista del Colectivo Tercera Hora. \n🐎Para convertirse en proveedor\, complete un formulario de solicitud siguiendo este enlace: https://bit.ly/mercadovendedor \n🐎Para ser voluntario en nuestro Mercado Night Markets\, complete un formulario de voluntariado siguiendo este enlace: http://bit.ly/mercadostage
URL:http://mercedhcc.com/event/noche-de-rodeo-mercado-night-market/
LOCATION:Bob Hart Square\, 510 West Main Street\, Merced\, CA\, 95340\, United States
CATEGORIES:The Mercado
ATTACH;FMTTYPE=image/png:http://mercedhcc.com/wp-content/uploads/2023/08/Mercado-Spanish-Noche-de-Rodeo.png
ORGANIZER;CN="Merced County Hispanic Chamber of Commerce":MAILTO:info@mercedhcc.com
END:VEVENT
BEGIN:VEVENT
DTSTART;TZID=America/Los_Angeles:20230907T180000
DTEND;TZID=America/Los_Angeles:20230907T210000
DTSTAMP:20260419T083751
CREATED:20230815T192219Z
LAST-MODIFIED:20230815T192219Z
UID:37312-1694109600-1694120400@mercedhcc.com
SUMMARY:"Rodeo Night" Mercado Night Market
DESCRIPTION:The “Rodeo Night” Mercado Night Market is created to connect our local businesses\, organizations\, performers\, and artists with the community.\n \nThe event is free to attend.\n \nAn evening full of family-friendly fun. We invite the community to come out in their best Western outfit and partake in the event’s theme.\nFood vendors sell a variety of cuisines\, treats\, and sweets.\nLocal businesses selling their services and products.\nLive music performance from the Rob. G Variety Band at Bob Hart Square.\nMuralist from the Third Hour Collective.\n\nTo become a vendor fill out an application form by following this link: http://bit.ly/mercadovendor\nPara convertirse en proveedor\, complete un formulario de solicitud siguiendo este enlace: https://bit.ly/mercadovendedor\n\nTo volunteer at our Mercado Night Markets fill out a volunteer form by following this link: http://bit.ly/mercadostage\nPara ser voluntario en nuestro Mercado Night Markets\, complete un formulario de voluntariado siguiendo este enlace: http://bit.ly/mercadostage
URL:http://mercedhcc.com/event/rodeo-night-mercado-night-market/
LOCATION:Bob Hart Square\, 510 West Main Street\, Merced\, CA\, 95340\, United States
CATEGORIES:The Mercado
ATTACH;FMTTYPE=image/png:http://mercedhcc.com/wp-content/uploads/2023/08/Mercado-Rodeo-Night-Flyer-.png
ORGANIZER;CN="Merced County Hispanic Chamber of Commerce":MAILTO:info@mercedhcc.com
END:VEVENT
BEGIN:VEVENT
DTSTART;TZID=America/Los_Angeles:20230706T180000
DTEND;TZID=America/Los_Angeles:20230706T210000
DTSTAMP:20260419T083751
CREATED:20230615T192546Z
LAST-MODIFIED:20230615T193534Z
UID:35685-1688666400-1688677200@mercedhcc.com
SUMMARY:Mercado Night Market presents "3rd Annual Veterans\, Military Personnel\, and First Responders Appreciation Night"
DESCRIPTION:We invite the community of Merced County to join us in showing our appreciation and gratitude to all the veterans\, military personnel\, and first responders in our community. \nNow in its 3rd season\, the night will be filled with community unity and celebration for the individuals who protect and continue to serve our community. \nOn that night as you walk along Main Street from M St. to MKL Way and down to Canal St. The crowd will get to enjoy the patriotic displays from our Merced Downtown businesses participating in our 2nd annual “Stars and Stripes Decorating Competition”. The competition will be judged by our local veterans\, military personnel\, and first responders. \nThe streets will be lined up with local vendors\, organizations\, and artists. Selling their products and services\, providing the community with valuable resources\, and displaying their artwork.  \nGrab some dinner and treats from our various food vendors their delicious delicacies will fill the night air.
URL:http://mercedhcc.com/event/mercado-night-market-presents-3rd-annual-veterans-military-personnel-and-first-responders-appreciation-night/
LOCATION:Bob Hart Square\, 510 West Main Street\, Merced\, CA\, 95340\, United States
CATEGORIES:The Mercado
ATTACH;FMTTYPE=image/jpeg:http://mercedhcc.com/wp-content/uploads/2023/06/July-6th-Mercado-Night-Market-Flyer-1-.jpg
ORGANIZER;CN="Merced County Hispanic Chamber of Commerce":MAILTO:info@mercedhcc.com
END:VEVENT
BEGIN:VEVENT
DTSTART;TZID=America/Los_Angeles:20230406T180000
DTEND;TZID=America/Los_Angeles:20230406T210000
DTSTAMP:20260419T083751
CREATED:20230214T210913Z
LAST-MODIFIED:20230320T221955Z
UID:33127-1680804000-1680814800@mercedhcc.com
SUMMARY:"Women's History Month"
DESCRIPTION:The first Mercado Night Market of 2023 will be hosted downtown Merced on Thursday\, April 6th. \nStarting this year Mercados with a “Women’s History Month” theme to recognize the women in our community who have made an impact in our lives. We welcome the community and participants to dress up as a woman in history.   \nOur Mercado Night Markets are created to connect local businesses\, organizations\, and artists with the community. A family-friendly event with something for everyone to enjoy.  \nPerformers at our stages keep the crowd entertained with live music\, dances\, and art displays. Bringing the community and the local arts together. \nWith a variety of vendors selling their products and goods up and down Main St and Canal St. The smell of different cuisines fills the air gravitating hungry stomachs to food vendor stands. \nThe Mercado Night Market is kicking off with our March event and running the first Thursday of every other month leading to our last Mercado in November. \nTo apply to become a vendor apply by following this link: http://bit.ly/mercadovendor \nPara llenar una solicitude de proveedor\, siga este enlace: https://bit.ly/mercadovendedor \nTo apply to become an artist apply by following this link: http://bit.ly/mercadostage \nFor more information on the Mercado Night Market visit our event page at https://mercedhcc.com/the-mercado/ \nYou can also reach the MCHCC office at (209) 384-9537.
URL:http://mercedhcc.com/event/womens-history-month/
LOCATION:Downtown Merced\, 531 W. Main St\, Merced\, CA\, 95340\, United States
CATEGORIES:The Mercado
ATTACH;FMTTYPE=image/jpeg:http://mercedhcc.com/wp-content/uploads/2023/02/Mercado-2023-Flyer-April-6-scaled.jpg
ORGANIZER;CN="Merced County Hispanic Chamber of Commerce":MAILTO:info@mercedhcc.com
END:VEVENT
BEGIN:VEVENT
DTSTART;TZID=America/Los_Angeles:20221103T180000
DTEND;TZID=America/Los_Angeles:20221103T210000
DTSTAMP:20260419T083751
CREATED:20221012T224955Z
LAST-MODIFIED:20221012T224955Z
UID:27818-1667498400-1667509200@mercedhcc.com
SUMMARY:The Mercado Night Market "Salsa Night In Merced"
DESCRIPTION:The Mercado Night Market Presents “Salsa Night in Merced”\n\nMCHCC last Mercado Night Market of the year will be on Thursday November 3rd Downtown Merced on Main and Canal Streets from 6:00pm till 9:00pm\n \n-Get some salsa dancing lessons on Bob Hart Square Main Stage.\n-Dance Performances\n-Visit and buy products from our 80+ vendors\n-Eat at the delicious food vendors\n-Enter or participate in our “Best Tasting Salsa Competition”\n-Salsa Band playing throughout the night at the Bob Hart Square Main Stage.\n \nFamily friendly fun throughout the night.\n \nCalling all Merced County Entrepreneurs!!\nWe will be hosting a New Business Competition throughout the Mercado.\nBring your business idea to possibly win a cash prize to help launch your business.\n \nTo become a vendor at the November 3rd Mercado Night Market. You can fill out an application by following the link here: http://bit.ly/mercadovendor\n \nPara convertirse en vendedor en el Mercado Nocturno del 3 de Noviembre. Puede completar una solicitud siguiendo el enlace aqui: https://bit.ly/mercadovendedor\n \nTo become a artist/performer at the November 3rd Mercado Night Market. You can fill out an application by following the link here: http://bit.ly/mercadostage\n \nIf you would like to be a Sponsor of the last Mercado Night Market contact us at (209) 384-9537.\n \nLooking to fill volunteer hours?\n\nThe Mercado Night Market is looking for volunteers. You can fill out an application by following this link: http://bit.ly/mercadovolunteer
URL:http://mercedhcc.com/event/the-mercado-night-market-salsa-night-in-merced/
LOCATION:Downtown Merced\, 531 W. Main St\, Merced\, CA\, 95340\, United States
CATEGORIES:The Mercado
ATTACH;FMTTYPE=image/jpeg:http://mercedhcc.com/wp-content/uploads/2022/10/Salsa-Night-In-Merced.jpg
ORGANIZER;CN="Merced County Hispanic Chamber of Commerce":MAILTO:info@mercedhcc.com
END:VEVENT
BEGIN:VEVENT
DTSTART;TZID=America/Los_Angeles:20220901T180000
DTEND;TZID=America/Los_Angeles:20220901T210000
DTSTAMP:20260419T083751
CREATED:20220817T210342Z
LAST-MODIFIED:20220831T234740Z
UID:25805-1662055200-1662066000@mercedhcc.com
SUMMARY:Mercado Night Market "Diversity and Community Alliance Night"
DESCRIPTION:The Mercado Night Market held by the Mercado County Hispanic Chamber of Commerce is excited to present the “Diversity and Community Alliance Night”.\nThe evening will be a celebration of the diversity and community unity of Merced County. Inviting you\, your friends\, and family to join us Downtown Merced to enjoy a family friend event.\nBeing held on Thursday September 1st\, 2022 Downtown Merced on Main Street from M St to K St and Canal from 18th St to Bob Hart Square.\n \n6:00pm At Bob Hart Square Main Stage presented by Advanced Airlines\, Amtrak San Joaquin\, and T-Mobile\n-A sparring match by Merced’s very own Jesus “Chiquito” Haro WBC Youth Minimum Weight World Champion.\n6:40pm\n-Raunak Merced Di return to the Mercado Night Market with an Indian Punjabi Folk Dance\n7:00pm\n-Dance routine from the students at Studio K\n7:30pm\n-Traditional Danza de Indios by the Danza Angeles Guadalupanos\n8:00pm\n-Polynesian Dance by South Pacific Dance Company\n8:30pm\n-Hmong Traditional Dancing by Ntxhais Tsim Koob (NTK)\nThroughout the event in the Bob Hart Square Grass Area\nThe family friendly fun continues with self directed play by Play Adventures and Kids Discovery Station open to all ages.\n At the Radio Merced Stage at Vinhos Wine Lounge\n-Live music duo Escape- Marijo and Ty\n At the Radio Merced Stage at Partisans\n– Live Art Demo- Eddie O. Rodriguez\nAt the Radio Merced Stage at Arbor Walkway (North)\n-Live music performance- Ryan Kano\, accordion world folk music\nAt the Radio Merced Stage at Arbor Walkway (South)\n-Poetry Corner hosted by Marcy Poe\n-Poetry and Short story by Naomi\n– Singing by Amaya\n-Poem reading by Leo\nAt the Regal Hollywood Merced Main Stage presented by Advanced Airlines\, Amtrak San Joaquin\, and T-Mobile\n– Classic car exhibition by Solamente Familia Car Club\nAt the 18th and Canal Street Main Stage presented by Advanced Airlines\, Amtrak San Joaquin\, and T-Mobile\n-Community Interactive Art Activity by the Enrichment Center\nWith over 80+ local vendors from businesses selling their goods and services. Organizations providing helpful information about their programs and a variety of food vendors.\nTo apply to be a vendor click the application link here http://bit.ly/mercadovendor\nEn espanol:\nhttps://bit.ly/mercadovendedor\nFor more information on volunteering\, sponsorship opportunities\, or other information and assistance. Email us at themercado209@gmail.com or call us at 209-384-9537.\n \nVisit our event web page to stay up to date on the Mercado Night Market\nhttps://mercedhcc.com/the-mercado/
URL:http://mercedhcc.com/event/mercado-night-market-diversity-and-community-alliance-night/
LOCATION:Bob Hart Square\, 510 West Main Street\, Merced\, CA\, 95340\, United States
CATEGORIES:The Mercado
ATTACH;FMTTYPE=image/jpeg:http://mercedhcc.com/wp-content/uploads/2022/08/September-1st-Flyer.jpg
ORGANIZER;CN="Merced County Hispanic Chamber of Commerce":MAILTO:info@mercedhcc.com
END:VEVENT
BEGIN:VEVENT
DTSTART;TZID=America/Los_Angeles:20220707T180000
DTEND;TZID=America/Los_Angeles:20220707T210000
DTSTAMP:20260419T083751
CREATED:20220616T224604Z
LAST-MODIFIED:20220616T225200Z
UID:22601-1657216800-1657227600@mercedhcc.com
SUMMARY:"2nd Annual Veterans\, Military Personnel\, and First Responders Appreciation Night" Mercado Night Market
DESCRIPTION:Our July 7th “2nd Annual Veterans\, Military Personnel\, and First Responders Appreciation Night” Mercado Night Market will be a night to highlight our community service members and their families. We honor those who served\, currently serve\, and those who protect our community. \nThe evening will open at the Bob Hart Square main stage with the Reveille Bugle Call. Followed by an Honor Guard Presentation\, National Anthem\, and a moment of silence to honor those who have fallen taking place at the Bob Hart Square Main Stage.  \nAlso performing at the Bob Hart Square Main Stage we will have a dance performance and our event headliner will be performing throughout the night. \nFull of celebration\, live music\, and local artist from the Urbanist Collective. Local vendors and organizations will be offering an array of goods and services. \nFor more information on volunteering\, sponsorship opportunities\, or other information\, please visit our event web page here https://mercedhcc.com/the-mercado/  \nYou can also contact us by sending an email to themercado209@gmail.com \n 
URL:http://mercedhcc.com/event/2nd-annual-veterans-military-personnel-and-first-responders-appreciation-night-mercado-night-market/
LOCATION:Bob Hart Square\, 510 West Main Street\, Merced\, CA\, 95340\, United States
CATEGORIES:The Mercado
ATTACH;FMTTYPE=image/jpeg:http://mercedhcc.com/wp-content/uploads/2022/06/Poster-of-July-7th-.jpg
ORGANIZER;CN="Merced County Hispanic Chamber of Commerce":MAILTO:info@mercedhcc.com
END:VEVENT
BEGIN:VEVENT
DTSTART;TZID=America/Los_Angeles:20220505T180000
DTEND;TZID=America/Los_Angeles:20220505T210000
DTSTAMP:20260419T083751
CREATED:20220407T184930Z
LAST-MODIFIED:20220428T212355Z
UID:20332-1651773600-1651784400@mercedhcc.com
SUMMARY:Mercado Night Market "Cinco de Mayo"
DESCRIPTION:Our “Cinco de Mayo” Mercado Night Market on May 5th will be full of celebrations and amazing performances. The United Tribes of California will be opening the event with a prayer\, followed by performances by Folkorico Dancers and grupo Nuevo Imperio\, to get the festivities going. Local artists from the Urbanists Collective will be displaying their Aztec art at Kreepy Kawaii Designs\, located on Canal Street\, as well as creating some open art displays during the event. \nLocal vendors\, artisans\, and organizations will be offering and selling an array of goods and services. \nPlease join us from 6:30 pm -7:30pm for our first “Taco Truck Competition”!  A handful of food trucks selected by the community will be competing to earn the “Best Taco” title in Merced County. \nTaco Truck Competition Rules:\n– Community members are welcome to participate.\n– Each participant will purchase a ballot card\, which will allow them to sample tacos and vote. Ballot cards are $5.\n– Participants will sample one (1) carne asada taco from each of the trucks.\n– After visiting each truck\, participants will cast their vote for their favorite taco truck. Each ballot counts as one (1) vote.\n– The taco truck with the most votes will earn the “Best Taco in Merced County\, 2022” title\, and will be announced at 8pm during the Mercado Night Market.
URL:http://mercedhcc.com/event/mercado-night-market-cinco-de-mayo/
LOCATION:Downtown Merced\, 531 W. Main St\, Merced\, CA\, 95340\, United States
CATEGORIES:The Mercado
ATTACH;FMTTYPE=image/jpeg:http://mercedhcc.com/wp-content/uploads/2022/04/Cinco-de-Mayo-flier.jpg
ORGANIZER;CN="Merced County Hispanic Chamber of Commerce":MAILTO:info@mercedhcc.com
END:VEVENT
BEGIN:VEVENT
DTSTART;TZID=America/Los_Angeles:20210805T180000
DTEND;TZID=America/Los_Angeles:20210805T220000
DTSTAMP:20260419T083751
CREATED:20210712T214852Z
LAST-MODIFIED:20210712T214852Z
UID:15538-1628186400-1628200800@mercedhcc.com
SUMMARY:The Mercado: Hot August Nights Car Show
DESCRIPTION:Join us for a night filled with fun as the Merced Hispanic Chamber of Commerce presents\, “The Mercado Hot August Nights Car Show” in Main Street downtown Merced\, an event you won’t want to miss out on! August 5th from 6-10 PM\, mark your calendars and bring the whole family out to enjoy the show\, grab a bite\, and check out the art and live performances. Car Show with CASH PRIZES AND AWARDS. Come on out August 5th!
URL:http://mercedhcc.com/event/the-mercado-hot-august-nights-car-show/
LOCATION:The Mercado\, Main Street Downtown Merced
CATEGORIES:The Mercado
ATTACH;FMTTYPE=image/jpeg:http://mercedhcc.com/wp-content/uploads/2021/07/MicrosoftTeams-image-2.jpg
END:VEVENT
END:VCALENDAR