BEGIN:VCALENDAR
VERSION:2.0
PRODID:-//Merced Hispanic Chamber of Commerce - ECPv6.15.20//NONSGML v1.0//EN
CALSCALE:GREGORIAN
METHOD:PUBLISH
X-WR-CALNAME:Merced Hispanic Chamber of Commerce
X-ORIGINAL-URL:https://mercedhcc.com
X-WR-CALDESC:Events for Merced Hispanic Chamber of Commerce
REFRESH-INTERVAL;VALUE=DURATION:PT1H
X-Robots-Tag:noindex
X-PUBLISHED-TTL:PT1H
BEGIN:VTIMEZONE
TZID:America/Los_Angeles
BEGIN:DAYLIGHT
TZOFFSETFROM:-0800
TZOFFSETTO:-0700
TZNAME:PDT
DTSTART:20210314T100000
END:DAYLIGHT
BEGIN:STANDARD
TZOFFSETFROM:-0700
TZOFFSETTO:-0800
TZNAME:PST
DTSTART:20211107T090000
END:STANDARD
BEGIN:DAYLIGHT
TZOFFSETFROM:-0800
TZOFFSETTO:-0700
TZNAME:PDT
DTSTART:20220313T100000
END:DAYLIGHT
BEGIN:STANDARD
TZOFFSETFROM:-0700
TZOFFSETTO:-0800
TZNAME:PST
DTSTART:20221106T090000
END:STANDARD
BEGIN:DAYLIGHT
TZOFFSETFROM:-0800
TZOFFSETTO:-0700
TZNAME:PDT
DTSTART:20230312T100000
END:DAYLIGHT
BEGIN:STANDARD
TZOFFSETFROM:-0700
TZOFFSETTO:-0800
TZNAME:PST
DTSTART:20231105T090000
END:STANDARD
END:VTIMEZONE
BEGIN:VEVENT
DTSTART;TZID=America/Los_Angeles:20221119T100000
DTEND;TZID=America/Los_Angeles:20221119T120000
DTSTAMP:20260425T075709
CREATED:20221108T211909Z
LAST-MODIFIED:20221108T211909Z
UID:28721-1668852000-1668859200@mercedhcc.com
SUMMARY:Table 59 1 Year Anniversary Ribbon Cutting Ceremony
DESCRIPTION:Table 59 invites you to their 1st-year anniversary ribbon-cutting ceremony on Saturday\, November 19\, 2022! From 10 am – 12 pm\, ribbon cutting at 10:30\n \nThe ribbon cutting will be hosted at their location at\n3360 N State Hwy 59\, Ste H in the Fahren’s Park Plaza\nMerced\, CA.\n \nMeet the restaurant owner\, chef\, and wonderful staff. Network with local professionals! Make important connections all while experiencing the atmosphere of Merced’s newest American-Italian restaurant.\n \nFor more information\, contact Table 59 at (209) 580-4598
URL:https://mercedhcc.com/event/table-59-1-year-anniversary-ribbon-cutting-ceremony/
LOCATION:3360 N State Hwy 59\, Ste H\, Merced\, Ca 95348\, 3360 N. State Hwy 59\, Ste H\, Merced\, CA\, 95348\, United States
CATEGORIES:Ribbon Cutting
ATTACH;FMTTYPE=image/jpeg:https://mercedhcc.com/wp-content/uploads/2022/11/Table-59-Ribbon-Cutting.jpg
ORGANIZER;CN="Merced County Hispanic Chamber of Commerce":MAILTO:info@mercedhcc.com
END:VEVENT
END:VCALENDAR