BEGIN:VCALENDAR
VERSION:2.0
PRODID:-//Merced Hispanic Chamber of Commerce - ECPv6.15.20//NONSGML v1.0//EN
CALSCALE:GREGORIAN
METHOD:PUBLISH
X-ORIGINAL-URL:https://mercedhcc.com
X-WR-CALDESC:Events for Merced Hispanic Chamber of Commerce
REFRESH-INTERVAL;VALUE=DURATION:PT1H
X-Robots-Tag:noindex
X-PUBLISHED-TTL:PT1H
BEGIN:VTIMEZONE
TZID:America/Los_Angeles
BEGIN:DAYLIGHT
TZOFFSETFROM:-0800
TZOFFSETTO:-0700
TZNAME:PDT
DTSTART:20220313T100000
END:DAYLIGHT
BEGIN:STANDARD
TZOFFSETFROM:-0700
TZOFFSETTO:-0800
TZNAME:PST
DTSTART:20221106T090000
END:STANDARD
BEGIN:DAYLIGHT
TZOFFSETFROM:-0800
TZOFFSETTO:-0700
TZNAME:PDT
DTSTART:20230312T100000
END:DAYLIGHT
BEGIN:STANDARD
TZOFFSETFROM:-0700
TZOFFSETTO:-0800
TZNAME:PST
DTSTART:20231105T090000
END:STANDARD
BEGIN:DAYLIGHT
TZOFFSETFROM:-0800
TZOFFSETTO:-0700
TZNAME:PDT
DTSTART:20240310T100000
END:DAYLIGHT
BEGIN:STANDARD
TZOFFSETFROM:-0700
TZOFFSETTO:-0800
TZNAME:PST
DTSTART:20241103T090000
END:STANDARD
BEGIN:DAYLIGHT
TZOFFSETFROM:-0800
TZOFFSETTO:-0700
TZNAME:PDT
DTSTART:20250309T100000
END:DAYLIGHT
BEGIN:STANDARD
TZOFFSETFROM:-0700
TZOFFSETTO:-0800
TZNAME:PST
DTSTART:20251102T090000
END:STANDARD
BEGIN:DAYLIGHT
TZOFFSETFROM:-0800
TZOFFSETTO:-0700
TZNAME:PDT
DTSTART:20260308T100000
END:DAYLIGHT
BEGIN:STANDARD
TZOFFSETFROM:-0700
TZOFFSETTO:-0800
TZNAME:PST
DTSTART:20261101T090000
END:STANDARD
END:VTIMEZONE
BEGIN:VEVENT
DTSTART;TZID=America/Los_Angeles:20230804T170000
DTEND;TZID=America/Los_Angeles:20230804T190000
DTSTAMP:20260421T112813
CREATED:20230731T195645Z
LAST-MODIFIED:20230731T195645Z
UID:36955-1691168400-1691175600@mercedhcc.com
SUMMARY:NK Designs Sip and Shop Grand Re-Opening
DESCRIPTION:Join us this Friday\, August 4th at NK Designs’ new location. The Sip and Shop Grand Re-Opening workshop will allow attendees to shop exclusively from vendors.  \n2836 G Street at the Bear Creek Gallery Galleria from 5:00 PM – 7:00 PM \nCelebrate with the team while enjoying appetizers and refreshments.  \nThe first 10 shoppers will receive a free gift. \nFollow them on social media  \nFacebook: https://www.facebook.com/NKdesigns.gifts \nInstagram: https://www.instagram.com/nkdesigns.gifts/ \n  \n 
URL:https://mercedhcc.com/event/nk-designs-sip-and-shop-grand-re-opening/
LOCATION:NK Designs\, 2836 G Street\, Merced\, CA\, 95340\, United States
CATEGORIES:Ribbon Cutting
ATTACH;FMTTYPE=image/png:https://mercedhcc.com/wp-content/uploads/2023/07/NK-Designs-Flyer.png
ORGANIZER;CN="Merced County Hispanic Chamber of Commerce":MAILTO:info@mercedhcc.com
END:VEVENT
BEGIN:VEVENT
DTSTART;TZID=America/Los_Angeles:20230810T090000
DTEND;TZID=America/Los_Angeles:20230810T120000
DTSTAMP:20260421T112813
CREATED:20230731T201453Z
LAST-MODIFIED:20230731T201453Z
UID:36958-1691658000-1691668800@mercedhcc.com
SUMMARY:Golden Valley Health Centers-Patient Appreciation Day & Grand Re-Opening
DESCRIPTION:Golden Valley Health Center is having a Patient Appreciation Day and Grand Re-Opening for their Planada Health Center.  \nThe event starts at 9:00 AM and ends at 12:00 PM.  \n-Mini Health Fair \n-Medi-Cal Renewal Assistance \n-Blood Pressure & Glucose Screenings \n-Dental Screening for Children \n-Entertainment & Kids Games \n-Educational Booths \n-Community Resources \n-Lots of Raffles \n-Backpack raffles \n-Snacks & Refreshments \n 
URL:https://mercedhcc.com/event/golden-valley-health-centers-patient-appreciation-day-grand-re-opening/
LOCATION:Planada Health Center\, 9235 E. Broadway St.\, Planada\, CA\, 95365\, United States
CATEGORIES:Ribbon Cutting
ATTACH;FMTTYPE=application/pdf:https://mercedhcc.com/wp-content/uploads/2023/07/Planada-Eng-and-Sp.pdf
ORGANIZER;CN="Merced County Hispanic Chamber of Commerce":MAILTO:info@mercedhcc.com
END:VEVENT
BEGIN:VEVENT
DTSTART;TZID=America/Los_Angeles:20230907T180000
DTEND;TZID=America/Los_Angeles:20230907T210000
DTSTAMP:20260421T112813
CREATED:20230815T192219Z
LAST-MODIFIED:20230815T192219Z
UID:37312-1694109600-1694120400@mercedhcc.com
SUMMARY:"Rodeo Night" Mercado Night Market
DESCRIPTION:The “Rodeo Night” Mercado Night Market is created to connect our local businesses\, organizations\, performers\, and artists with the community.\n \nThe event is free to attend.\n \nAn evening full of family-friendly fun. We invite the community to come out in their best Western outfit and partake in the event’s theme.\nFood vendors sell a variety of cuisines\, treats\, and sweets.\nLocal businesses selling their services and products.\nLive music performance from the Rob. G Variety Band at Bob Hart Square.\nMuralist from the Third Hour Collective.\n\nTo become a vendor fill out an application form by following this link: http://bit.ly/mercadovendor\nPara convertirse en proveedor\, complete un formulario de solicitud siguiendo este enlace: https://bit.ly/mercadovendedor\n\nTo volunteer at our Mercado Night Markets fill out a volunteer form by following this link: http://bit.ly/mercadostage\nPara ser voluntario en nuestro Mercado Night Markets\, complete un formulario de voluntariado siguiendo este enlace: http://bit.ly/mercadostage
URL:https://mercedhcc.com/event/rodeo-night-mercado-night-market/
LOCATION:Bob Hart Square\, 510 West Main Street\, Merced\, CA\, 95340\, United States
CATEGORIES:The Mercado
ATTACH;FMTTYPE=image/png:https://mercedhcc.com/wp-content/uploads/2023/08/Mercado-Rodeo-Night-Flyer-.png
ORGANIZER;CN="Merced County Hispanic Chamber of Commerce":MAILTO:info@mercedhcc.com
END:VEVENT
BEGIN:VEVENT
DTSTART;TZID=America/Los_Angeles:20230907T180000
DTEND;TZID=America/Los_Angeles:20230907T210000
DTSTAMP:20260421T112813
CREATED:20230815T193043Z
LAST-MODIFIED:20230815T193043Z
UID:37314-1694109600-1694120400@mercedhcc.com
SUMMARY:"Noche de Rodeo" Mercado Night Market
DESCRIPTION:El Mercado Nocturno “Noche de Rodeo” se crea para conectar a nuestras empresas\, organizaciones\, artistas y artistas locales con la comunidad. \n El evento cuenta con entrada gratis. \n Una velada llena de diversión familiar. Invitamos a la comunidad a salir con su mejor atuendo occidental y participar en el tema del evento.  \n-Los vendedores de comida venden una variedad de cocinas\, golosinas y dulces. \n-Comercios locales que venden sus servicios y productos. \n-Actuación de música en vivo de Rob. G Variety Band en Bob Hart Square.  \n-Muralista del Colectivo Tercera Hora. \n🐎Para convertirse en proveedor\, complete un formulario de solicitud siguiendo este enlace: https://bit.ly/mercadovendedor \n🐎Para ser voluntario en nuestro Mercado Night Markets\, complete un formulario de voluntariado siguiendo este enlace: http://bit.ly/mercadostage
URL:https://mercedhcc.com/event/noche-de-rodeo-mercado-night-market/
LOCATION:Bob Hart Square\, 510 West Main Street\, Merced\, CA\, 95340\, United States
CATEGORIES:The Mercado
ATTACH;FMTTYPE=image/png:https://mercedhcc.com/wp-content/uploads/2023/08/Mercado-Spanish-Noche-de-Rodeo.png
ORGANIZER;CN="Merced County Hispanic Chamber of Commerce":MAILTO:info@mercedhcc.com
END:VEVENT
BEGIN:VEVENT
DTSTART;TZID=America/Los_Angeles:20230915T114500
DTEND;TZID=America/Los_Angeles:20230915T133000
DTSTAMP:20260421T112813
CREATED:20230815T200330Z
LAST-MODIFIED:20230815T200330Z
UID:37316-1694778300-1694784600@mercedhcc.com
SUMMARY:2023 Latina Women's Luncheon
DESCRIPTION:Join us for this year’s Latina Women’s Luncheon to acknowledge and recognize the accomplishments and contributions of Latina Women throughout Merced County.\n \nThis year’s luncheon will be held at the Mainzer.\nThank you to our Sponsors:\nAdvanced Airlines\nDignity Health Mercy Medical Center\nAdobe Express\nEl Capitan Hotel\nMainzer\nFarmers Insurance Federal Credit Union\nChukchansi Gold Resort and Casino\n \nIf you have a Latina in your community you would like to nominate please copy this link for a nomination form: https://shorturl.at/uxyFM    Or call our chamber office.\n \nYou can purchase your tickets by visiting Eventbrite and searching 2023 Latina Women’s Luncheon or by clicking on this link: https://www.eventbrite.com/e/695495464657?aff=oddtdtcreator\n$35 MCHCC Members\n$45 Non Members\nFurther information can be found by calling (209) 384-9537 or emailing us at info@mercedhcc.com
URL:https://mercedhcc.com/event/2023-latina-womens-luncheon/
LOCATION:Mainzer\, 655 W. Main Street\, Merced\, CA\, 95340\, United States
CATEGORIES:Networking
ATTACH;FMTTYPE=image/png:https://mercedhcc.com/wp-content/uploads/2023/08/Latina-Womens-Luncheon-Banner.png
ORGANIZER;CN="Merced County Hispanic Chamber of Commerce":MAILTO:info@mercedhcc.com
END:VEVENT
BEGIN:VEVENT
DTSTART;TZID=America/Los_Angeles:20231001T100000
DTEND;TZID=America/Los_Angeles:20231001T130000
DTSTAMP:20260421T112813
CREATED:20230922T172749Z
LAST-MODIFIED:20230922T172749Z
UID:38192-1696154400-1696165200@mercedhcc.com
SUMMARY:Conozca Sus Derechos
DESCRIPTION:El Comercio Hispano del Condado de Merced y otras agencias locales están organizando una presentación sobre sus derechos. Durante el evento\, tendrá la oportunidad de aprender sobre sus derechos legales como inmigrantes en los E.E. UU. tambien recibiran informacion sobre beneficios publicos y otros recursos. Llame a (209)756-7000 para mas informacion. ( DIRECCIÓN – 615 West 15th St Merced\, CA 95340)\n \nDomingo\n10-01-2023\nDe 10:00 AM A 1:00 PM\n \n 
URL:https://mercedhcc.com/event/conozca-sus-derechos/
LOCATION:Boys & Girls Club of Merced\, 615 W. 15th Street\, Merced\, CA\, 95340\, United States
CATEGORIES:Community Event
ORGANIZER;CN="Merced County Hispanic Chamber of Commerce":MAILTO:info@mercedhcc.com
END:VEVENT
BEGIN:VEVENT
DTSTART;TZID=America/Los_Angeles:20231013T180000
DTEND;TZID=America/Los_Angeles:20231013T210000
DTSTAMP:20260421T112813
CREATED:20230922T213700Z
LAST-MODIFIED:20231003T204459Z
UID:38196-1697220000-1697230800@mercedhcc.com
SUMMARY:76th Annual Installation Dinner & Awards Ceremony
DESCRIPTION:We invite our members and community partners to celebrate along with us our 76 years of community service throughout Merced County.   \nThe event will be a night of community bonding as we introduce and inaugurate our 2023-2024 Board of Directors and Officers.  During the awards ceremony\, we will have the privilege of also recognizing and celebrating the achievements of various outstanding businesses\, organizations\, and leaders from around Merced County. \nThe evening will begin with a cocktail social hour and continue with a warm welcome from MCHCC’s President\, Annissa Fragoso. Dinner will be served\, and the installation of our Board of Directors will follow. Our awards ceremony will be closing out the night.   \nAs a non-profit 501(c)(6) organization the Merced County Hispanic Chamber of Commerce relies on your generous support to carry out the goal of advancing the economic development of small businesses in Merced County. We want to thank all our members\, partners\, and sponsors for your continued support. To purchase your ticket\, please contact MCHCC office at info@mercedhcc.com
URL:https://mercedhcc.com/event/76th-annual-installation-dinner-awards-ceremony/
LOCATION:Dr. Vikram and Priya Lakireddy Grand Ballroom – UC Merced\, 5200 Lake Road\, Merced\, CA\, 95340\, United States
ORGANIZER;CN="Merced County Hispanic Chamber of Commerce":MAILTO:info@mercedhcc.com
END:VEVENT
BEGIN:VEVENT
DTSTART;TZID=America/Los_Angeles:20240118T074500
DTEND;TZID=America/Los_Angeles:20240118T084500
DTSTAMP:20260421T112813
CREATED:20240112T213209Z
LAST-MODIFIED:20240112T213212Z
UID:40990-1705563900-1705567500@mercedhcc.com
SUMMARY:Coffee Break with Chief Steven Stanfield
DESCRIPTION:Thursday\, January 18th\, 2023\, From 7:45 AM to 8:45 AM\, Coffee Break with Chief Steven Stanfield 129 West Cone Ave Building 3\, Merced\, CA 95341  \nJoin us for a coffee break with Chief Steven Stanfield! The event will be from 7:45 am to 8:45 am. Please call the MCHCC Office to register for the event. Breakfast will be provided\, so stop by and say hi! 
URL:https://mercedhcc.com/event/coffee-break-with-chief-steven-stanfield/
LOCATION:Village of Hope\, 129 West Cone Ave Building 39534\, Merced\, CA\, 129 West Cone Ave Building 3\, Merced\, CA 95341\, United States
CATEGORIES:Networking
ORGANIZER;CN="Merced County Hispanic Chamber of Commerce":MAILTO:info@mercedhcc.com
END:VEVENT
BEGIN:VEVENT
DTSTART;TZID=America/Los_Angeles:20240119T170000
DTEND;TZID=America/Los_Angeles:20240119T210000
DTSTAMP:20260421T112813
CREATED:20240112T213701Z
LAST-MODIFIED:20240112T214509Z
UID:40993-1705683600-1705698000@mercedhcc.com
SUMMARY:Joystiq's 1 Year Anniversary
DESCRIPTION:Friday\, January 19th\, 2023\, From 5 PM to 9 PM\, Joystiq’s 1 Year Anniversary. 325 W Main St\, Merced\, CA 95340   \nCome celebrate Joystiq’s 1st anniversary with a fun family-friendly celebration! The ceremony will start at 5 PM. After that there will be free appetizers\, games\, and more! See you there! 
URL:https://mercedhcc.com/event/joystiqs-1-year-anniversary/
LOCATION:Joystiq\, 325 W Main St\, Merced\, CA\, 95340\, United States
CATEGORIES:Networking
END:VEVENT
BEGIN:VEVENT
DTSTART;TZID=America/Los_Angeles:20240120T110000
DTEND;TZID=America/Los_Angeles:20240120T160000
DTSTAMP:20260421T112813
CREATED:20240112T214206Z
LAST-MODIFIED:20240112T214207Z
UID:40996-1705748400-1705766400@mercedhcc.com
SUMMARY:Plantology Grand Opening
DESCRIPTION:Saturday\, January 20th\, 2024\, At 11 AM to 6 PM\, Plantology Grand Opening. 950 West Main Street\, Merced\, CA   \nJoin Plantology for a big day for the plant community in Merced County! Come welcome a new plant store coming to Merced! Their grand opening of the store will be packed with delicious food\, great music\, and awesome vendors from 11 AM to 4 PM. Ribbon Cutting ceremony will start at 11:20 AM. The first 30 visitors walk away with a free plant! 
URL:https://mercedhcc.com/event/plantology-grand-opening/
LOCATION:Plantology\, 50 West Main Street\, Merced\, CA\, 95340\, United States
CATEGORIES:Ribbon Cutting
END:VEVENT
BEGIN:VEVENT
DTSTART;TZID=America/Los_Angeles:20240123T173000
DTEND;TZID=America/Los_Angeles:20240123T193000
DTSTAMP:20260421T112813
CREATED:20240112T215352Z
LAST-MODIFIED:20240112T215354Z
UID:40999-1706031000-1706038200@mercedhcc.com
SUMMARY:New Year Kickoff Mixer - Travis Credit Union
DESCRIPTION:Tuesday\, January 23rd\, 2023\, From 5:30 PM to 7:30 PM\, New Year Kickoff Mixer – Travis Credit Union. 1194 W Olive Ave\, Merced\, CA 95348   \nStart the year at The Travis Credit Union Mixer\, they’ll be having a raffle while serving fresh food\, light refreshments\, and more at their New Year’s mixer. 
URL:https://mercedhcc.com/event/new-year-kickoff-mixer-travis-credit-union/
LOCATION:Travis Credit Union\, 1194 W Olive Ave\, Merced\, CA\, 95348\, United States
CATEGORIES:Business Mixer
END:VEVENT
BEGIN:VEVENT
DTSTART;TZID=America/Los_Angeles:20240221T180000
DTEND;TZID=America/Los_Angeles:20240221T193000
DTSTAMP:20260421T112813
CREATED:20240206T194547Z
LAST-MODIFIED:20240206T194634Z
UID:42354-1708538400-1708543800@mercedhcc.com
SUMMARY:Business Planning Workshop
DESCRIPTION:ATTENTION FUTURE ENTREPRENEURS !! Interested in turning a passionate idea into a business? \nCome join us with UCM SBDC to learn the steps to open a business. \nFebruary 21st\, 2024 at 6 PM. 531 W Main St\, Merced\, CA 95340. \nFREE FOR ALL
URL:https://mercedhcc.com/event/business-planning-workshop/
LOCATION:531 W Main St\, Merced\, CA 95340\, 531 W Main Street\, Merced\, CA\, 95340\, United States
CATEGORIES:Workshops
ORGANIZER;CN="Merced County Hispanic Chamber of Commerce":MAILTO:info@mercedhcc.com
END:VEVENT
BEGIN:VEVENT
DTSTART;TZID=America/Los_Angeles:20240402T180000
DTEND;TZID=America/Los_Angeles:20240402T200000
DTSTAMP:20260421T112813
CREATED:20240328T221331Z
LAST-MODIFIED:20240328T221500Z
UID:44804-1712080800-1712088000@mercedhcc.com
SUMMARY:Stratford Evans Merced Funeral Home Business Mixer
DESCRIPTION:  \nYou are invited to expand your connections and new opportunity with us! There will be light refreshments and food provided. 
URL:https://mercedhcc.com/event/stratford-evans-merced-funeral-home-business-mixer/
LOCATION:Stratford Evans Merced Funeral Home\, 3360 N State Hwy 59 ste H\, Merced\, CA 95348\, Merced\, CA\, 95348\, United States
END:VEVENT
BEGIN:VEVENT
DTSTART;TZID=America/Los_Angeles:20240411T180000
DTEND;TZID=America/Los_Angeles:20240411T200000
DTSTAMP:20260421T112813
CREATED:20240328T224235Z
LAST-MODIFIED:20240328T224816Z
UID:44808-1712858400-1712865600@mercedhcc.com
SUMMARY:End-of-life Services Seminar with Stratford Evans Merced Funeral Home
DESCRIPTION:Come and learn how to plan for funeral and cemetery services. Learn the advantages of pre-planning while eating! Seating is limited. Please call 408-439-2342 to reserve your spot. 
URL:https://mercedhcc.com/event/stratford-evans-merced-funeral-home/
LOCATION:Table 59\, 3360 N. State Highway 59 Suite H\, Merced\, CA\, 95348\, United States
CATEGORIES:Workshops
ORGANIZER;CN="Merced County Hispanic Chamber of Commerce":MAILTO:info@mercedhcc.com
END:VEVENT
BEGIN:VEVENT
DTSTART;TZID=America/Los_Angeles:20240420T090000
DTEND;TZID=America/Los_Angeles:20240420T150000
DTSTAMP:20260421T112813
CREATED:20240328T225900Z
LAST-MODIFIED:20240328T230114Z
UID:44812-1713603600-1713625200@mercedhcc.com
SUMMARY:Spring Fling Fundraiser
DESCRIPTION:  \n  \nJoin MCHCC and the American Legion for their first Spring Fling event- an indoor event! There will be vendors\, live performances from the community\, live music from local bands\, food\, classic car shows\, and raffles!! Come hungry and shop with us for two days! \n 
URL:https://mercedhcc.com/event/spring-fling-fundraiser/
LOCATION:post 83\, 939 W Main St\, Merced\, CA 95340\, Merced\, CA\, 95340-4715\, United States
CATEGORIES:Community Event
ORGANIZER;CN="Merced County Hispanic Chamber of Commerce":MAILTO:info@mercedhcc.com
END:VEVENT
BEGIN:VEVENT
DTSTART;TZID=America/Los_Angeles:20250116T150000
DTEND;TZID=America/Los_Angeles:20250116T170000
DTSTAMP:20260421T112813
CREATED:20250110T201437Z
LAST-MODIFIED:20250110T203002Z
UID:50199-1737039600-1737046800@mercedhcc.com
SUMMARY:Lupian's Mexican Restaurant & Seafood Ribbon Cutting
DESCRIPTION:🎉 Join Us for a Celebration! 🎉 \nThe Merced County Hispanic Chamber of Commerce is excited to invite you to the Ribbon Cutting at Lupian’s Mexican Restaurant & Seafood! 🎀 \n📅 Date: January 16th\, 2025 \n🕒 Time: 3:00 PM \n📍 Location: 3355 G Street\, Merced\, CA 95340 \nCome celebrate Lupian’s 3rd Anniversary and check out their brand-new location! 🎉 Enjoy exclusive customer discounts and enter for a chance to win prizes in their Customer Appreciation Raffle! 🎁 \nWe look forward to seeing you there!
URL:https://mercedhcc.com/event/lupians-mexican-restaurant-seafood-ribbon-cutting/
LOCATION:Lupian’s Mexican Restaurant & Seafood\, 3355 G St\, Merced\, CA\, United States
CATEGORIES:Ribbon Cutting
ORGANIZER;CN="Merced County Hispanic Chamber of Commerce":MAILTO:info@mercedhcc.com
END:VEVENT
BEGIN:VEVENT
DTSTART;TZID=America/Los_Angeles:20250222T120000
DTEND;TZID=America/Los_Angeles:20250222T160000
DTSTAMP:20260421T112813
CREATED:20250110T200647Z
LAST-MODIFIED:20250110T200836Z
UID:36964-1740225600-1740240000@mercedhcc.com
SUMMARY:Black History Month Block Party
DESCRIPTION:🎉 Celebrate Black History Month with us! 🎉 \nJoin us on February 22nd\, 2025 from 12 PM to 4 PM at 3030 Park Avenue\, Merced\, CA (Suite C) for the Black History Month Block Party\, hosted by Tone and the Barber Doll! \nExpect an unforgettable day of music\, live performances\, and family fun as we honor and celebrate Black history\, culture\, and the amazing talent in our community! \nBring your friends\, family\, and your love for great vibes! \n📅 Date: February 22nd \n📍 Location: 3030 Park Avenue\, Suite C\, Merced\, CA \n⏰ Time: 12 PM – 4 PM \n For more information\, please follow @toneandthebarberdoll on Instagram
URL:https://mercedhcc.com/event/black-history-month-block-party-3/
LOCATION:Tone & The Barber Doll Barber Shop\, 3040 Park Avenue Suite C\, Merced\, CA\, 95348\, United States
CATEGORIES:Member Event
ORGANIZER;CN="Merced County Hispanic Chamber of Commerce":MAILTO:info@mercedhcc.com
END:VEVENT
BEGIN:VEVENT
DTSTART;TZID=America/Los_Angeles:20250328T113000
DTEND;TZID=America/Los_Angeles:20250328T130000
DTSTAMP:20260421T112813
CREATED:20250110T183222Z
LAST-MODIFIED:20250213T223309Z
UID:50145-1743161400-1743166800@mercedhcc.com
SUMMARY:MCHCC's Latina Women's Luncheon 2025
DESCRIPTION:🌸 Save the Date! 🌸 \nIn honor of Women’s History Month\, we are excited to announce the 2025 Latina Women’s Luncheon on March 28th\, 2025\, starting at 11:45 AM! 🎉 \nThis special event will celebrate the incredible Latina women who have made a lasting impact in our community. Do you know a Latina who deserves recognition for her contributions? Nominate her today! \n📩 To nominate\, email us at info@mercedhcc.com for a nomination form. Let’s celebrate the women who inspire and empower us every day! \nTo Purchase Tickets: bit.ly/MCHChamberLatinaLuncheon \n📅 Date: March 28th\, 2025 \n⏰ Time: 11:45 AM \n📍 Location: MCOE Mondo Building – 1715 Canal St\, Merced\, CA 95340
URL:https://mercedhcc.com/event/mchccs-latina-womens-luncheon-2025/
LOCATION:CA
CATEGORIES:Networking
ORGANIZER;CN="Merced County Hispanic Chamber of Commerce":MAILTO:info@mercedhcc.com
END:VEVENT
BEGIN:VEVENT
DTSTART;TZID=America/Los_Angeles:20250724T080000
DTEND;TZID=America/Los_Angeles:20250724T170000
DTSTAMP:20260421T112813
CREATED:20250724T180436Z
LAST-MODIFIED:20250724T180437Z
UID:54442-1753344000-1753376400@mercedhcc.com
SUMMARY:Merced County Hispanic Chamber of Commerce Mixer
DESCRIPTION: Save the Date!!!Join us for the Merced County Hispanic Chamber of Commerce Mixer! \n Thursday\, August 14th\, 2025 6:00 PM – 8:00 PM Mainzer – 665 W Main St\, Merced\, CA 95340\nNetwork\, connect\, and celebrate with fellow professionals and community members. To register\, click the link in our bio! We can’t wait to see everyone there! 
URL:https://mercedhcc.com/event/merced-county-hispanic-chamber-of-commerce-mixer/
LOCATION:CA
CATEGORIES:Business Mixer,Community Event,Networking
END:VEVENT
BEGIN:VEVENT
DTSTART;TZID=America/Los_Angeles:20250806T173000
DTEND;TZID=America/Los_Angeles:20250806T193000
DTSTAMP:20260421T112813
CREATED:20250724T174933Z
LAST-MODIFIED:20250724T174939Z
UID:54435-1754501400-1754508600@mercedhcc.com
SUMMARY:STAFF & PARTNER APPRECIATION DAY (GVHC)
DESCRIPTION: Come celebrate the amazing team at GVHC! Join us for Staff & Partner Appreciation Day at the newly remodeled Golden Valley Health Centers Atwater Administration Building! \n 1910 Customer Care Way\, Atwater\, CA 95301 Starts at 5:30 PM-7:30 pm Ribbon Cutting Food Raffle Prizes Music & More!\nLet’s show our appreciation for the wonderful staff who make it all happen — we can’t wait to see you there! 
URL:https://mercedhcc.com/event/staff-partner-appreciation-day-gvhc/
LOCATION:CA
CATEGORIES:Member Event,Ribbon Cutting
END:VEVENT
BEGIN:VEVENT
DTSTART;TZID=America/Los_Angeles:20250813T120000
DTEND;TZID=America/Los_Angeles:20250813T130000
DTSTAMP:20260421T112813
CREATED:20250724T175757Z
LAST-MODIFIED:20250724T175758Z
UID:54438-1755086400-1755090000@mercedhcc.com
SUMMARY:Ai Woorkshop
DESCRIPTION:On August 13th\, we’re hosting Part 2 of our AI Workshop — and you’re invited! \nOur first session was incredible\, and we can’t wait to welcome you back for more learning\, discussion\, and hands-on fun with Artificial Intelligence.\n Date: August 13\, 2025 Time: 12:00 PM – 1:00 PM Lunch will be provided!\nDon’t miss out on another great opportunity to grow and connect — see you there!
URL:https://mercedhcc.com/event/ai-woorkshop/
LOCATION:CA
CATEGORIES:Community Event
END:VEVENT
BEGIN:VEVENT
DTSTART;TZID=America/Los_Angeles:20251003T180000
DTEND;TZID=America/Los_Angeles:20251003T210000
DTSTAMP:20260421T112813
CREATED:20250724T180129Z
LAST-MODIFIED:20250724T180131Z
UID:54440-1759514400-1759525200@mercedhcc.com
SUMMARY:78 years of service at the Merced County Hispanic Chamber of Commerce's 78th Installation & Awards Ceremony Dinner
DESCRIPTION:Join us as we celebrate 78 years of service at the Merced County Hispanic Chamber of Commerce’s 78th Installation & Awards Ceremony Dinner!\nThursday\, October 3rd6 PM – 9 PM\nWe’re honoring the incredible contributions of our community\, including the Man\, Woman\, Business\, and Non-Profit of the Year. \nKnow someone who deserves recognition?Email us at info@mercedhcc.com to request a nomination form!\nLet’s come together for an unforgettable evening of celebration\, inspiration\, and community.
URL:https://mercedhcc.com/event/78-years-of-service-at-the-merced-county-hispanic-chamber-of-commerces-78th-installation-awards-ceremony-dinner/
LOCATION:CA
CATEGORIES:Community Event,Member Event
END:VEVENT
END:VCALENDAR