BEGIN:VCALENDAR
VERSION:2.0
PRODID:-//Merced Hispanic Chamber of Commerce - ECPv6.15.20//NONSGML v1.0//EN
CALSCALE:GREGORIAN
METHOD:PUBLISH
X-WR-CALNAME:Merced Hispanic Chamber of Commerce
X-ORIGINAL-URL:https://mercedhcc.com
X-WR-CALDESC:Events for Merced Hispanic Chamber of Commerce
REFRESH-INTERVAL;VALUE=DURATION:PT1H
X-Robots-Tag:noindex
X-PUBLISHED-TTL:PT1H
BEGIN:VTIMEZONE
TZID:America/Los_Angeles
BEGIN:DAYLIGHT
TZOFFSETFROM:-0800
TZOFFSETTO:-0700
TZNAME:PDT
DTSTART:20240310T100000
END:DAYLIGHT
BEGIN:STANDARD
TZOFFSETFROM:-0700
TZOFFSETTO:-0800
TZNAME:PST
DTSTART:20241103T090000
END:STANDARD
BEGIN:DAYLIGHT
TZOFFSETFROM:-0800
TZOFFSETTO:-0700
TZNAME:PDT
DTSTART:20250309T100000
END:DAYLIGHT
BEGIN:STANDARD
TZOFFSETFROM:-0700
TZOFFSETTO:-0800
TZNAME:PST
DTSTART:20251102T090000
END:STANDARD
BEGIN:DAYLIGHT
TZOFFSETFROM:-0800
TZOFFSETTO:-0700
TZNAME:PDT
DTSTART:20260308T100000
END:DAYLIGHT
BEGIN:STANDARD
TZOFFSETFROM:-0700
TZOFFSETTO:-0800
TZNAME:PST
DTSTART:20261101T090000
END:STANDARD
END:VTIMEZONE
BEGIN:VEVENT
DTSTART;TZID=America/Los_Angeles:20251003T180000
DTEND;TZID=America/Los_Angeles:20251003T210000
DTSTAMP:20260421T175009
CREATED:20250724T180129Z
LAST-MODIFIED:20250724T180131Z
UID:54440-1759514400-1759525200@mercedhcc.com
SUMMARY:78 years of service at the Merced County Hispanic Chamber of Commerce's 78th Installation & Awards Ceremony Dinner
DESCRIPTION:Join us as we celebrate 78 years of service at the Merced County Hispanic Chamber of Commerce’s 78th Installation & Awards Ceremony Dinner!\nThursday\, October 3rd6 PM – 9 PM\nWe’re honoring the incredible contributions of our community\, including the Man\, Woman\, Business\, and Non-Profit of the Year. \nKnow someone who deserves recognition?Email us at info@mercedhcc.com to request a nomination form!\nLet’s come together for an unforgettable evening of celebration\, inspiration\, and community.
URL:https://mercedhcc.com/event/78-years-of-service-at-the-merced-county-hispanic-chamber-of-commerces-78th-installation-awards-ceremony-dinner/
LOCATION:CA
CATEGORIES:Community Event,Member Event
END:VEVENT
END:VCALENDAR