BEGIN:VCALENDAR
VERSION:2.0
PRODID:-//Merced Hispanic Chamber of Commerce - ECPv6.15.20//NONSGML v1.0//EN
CALSCALE:GREGORIAN
METHOD:PUBLISH
X-ORIGINAL-URL:https://mercedhcc.com
X-WR-CALDESC:Events for Merced Hispanic Chamber of Commerce
REFRESH-INTERVAL;VALUE=DURATION:PT1H
X-Robots-Tag:noindex
X-PUBLISHED-TTL:PT1H
BEGIN:VTIMEZONE
TZID:America/Los_Angeles
BEGIN:DAYLIGHT
TZOFFSETFROM:-0800
TZOFFSETTO:-0700
TZNAME:PDT
DTSTART:20210314T100000
END:DAYLIGHT
BEGIN:STANDARD
TZOFFSETFROM:-0700
TZOFFSETTO:-0800
TZNAME:PST
DTSTART:20211107T090000
END:STANDARD
BEGIN:DAYLIGHT
TZOFFSETFROM:-0800
TZOFFSETTO:-0700
TZNAME:PDT
DTSTART:20220313T100000
END:DAYLIGHT
BEGIN:STANDARD
TZOFFSETFROM:-0700
TZOFFSETTO:-0800
TZNAME:PST
DTSTART:20221106T090000
END:STANDARD
BEGIN:DAYLIGHT
TZOFFSETFROM:-0800
TZOFFSETTO:-0700
TZNAME:PDT
DTSTART:20230312T100000
END:DAYLIGHT
BEGIN:STANDARD
TZOFFSETFROM:-0700
TZOFFSETTO:-0800
TZNAME:PST
DTSTART:20231105T090000
END:STANDARD
END:VTIMEZONE
BEGIN:VEVENT
DTSTART;TZID=America/Los_Angeles:20220901T180000
DTEND;TZID=America/Los_Angeles:20220901T210000
DTSTAMP:20260425T061835
CREATED:20220817T210342Z
LAST-MODIFIED:20220831T234740Z
UID:25805-1662055200-1662066000@mercedhcc.com
SUMMARY:Mercado Night Market "Diversity and Community Alliance Night"
DESCRIPTION:The Mercado Night Market held by the Mercado County Hispanic Chamber of Commerce is excited to present the “Diversity and Community Alliance Night”.\nThe evening will be a celebration of the diversity and community unity of Merced County. Inviting you\, your friends\, and family to join us Downtown Merced to enjoy a family friend event.\nBeing held on Thursday September 1st\, 2022 Downtown Merced on Main Street from M St to K St and Canal from 18th St to Bob Hart Square.\n \n6:00pm At Bob Hart Square Main Stage presented by Advanced Airlines\, Amtrak San Joaquin\, and T-Mobile\n-A sparring match by Merced’s very own Jesus “Chiquito” Haro WBC Youth Minimum Weight World Champion.\n6:40pm\n-Raunak Merced Di return to the Mercado Night Market with an Indian Punjabi Folk Dance\n7:00pm\n-Dance routine from the students at Studio K\n7:30pm\n-Traditional Danza de Indios by the Danza Angeles Guadalupanos\n8:00pm\n-Polynesian Dance by South Pacific Dance Company\n8:30pm\n-Hmong Traditional Dancing by Ntxhais Tsim Koob (NTK)\nThroughout the event in the Bob Hart Square Grass Area\nThe family friendly fun continues with self directed play by Play Adventures and Kids Discovery Station open to all ages.\n At the Radio Merced Stage at Vinhos Wine Lounge\n-Live music duo Escape- Marijo and Ty\n At the Radio Merced Stage at Partisans\n– Live Art Demo- Eddie O. Rodriguez\nAt the Radio Merced Stage at Arbor Walkway (North)\n-Live music performance- Ryan Kano\, accordion world folk music\nAt the Radio Merced Stage at Arbor Walkway (South)\n-Poetry Corner hosted by Marcy Poe\n-Poetry and Short story by Naomi\n– Singing by Amaya\n-Poem reading by Leo\nAt the Regal Hollywood Merced Main Stage presented by Advanced Airlines\, Amtrak San Joaquin\, and T-Mobile\n– Classic car exhibition by Solamente Familia Car Club\nAt the 18th and Canal Street Main Stage presented by Advanced Airlines\, Amtrak San Joaquin\, and T-Mobile\n-Community Interactive Art Activity by the Enrichment Center\nWith over 80+ local vendors from businesses selling their goods and services. Organizations providing helpful information about their programs and a variety of food vendors.\nTo apply to be a vendor click the application link here http://bit.ly/mercadovendor\nEn espanol:\nhttps://bit.ly/mercadovendedor\nFor more information on volunteering\, sponsorship opportunities\, or other information and assistance. Email us at themercado209@gmail.com or call us at 209-384-9537.\n \nVisit our event web page to stay up to date on the Mercado Night Market\nhttps://mercedhcc.com/the-mercado/
URL:https://mercedhcc.com/event/mercado-night-market-diversity-and-community-alliance-night/
LOCATION:Bob Hart Square\, 510 West Main Street\, Merced\, CA\, 95340\, United States
CATEGORIES:The Mercado
ATTACH;FMTTYPE=image/jpeg:https://mercedhcc.com/wp-content/uploads/2022/08/September-1st-Flyer.jpg
ORGANIZER;CN="Merced County Hispanic Chamber of Commerce":MAILTO:info@mercedhcc.com
END:VEVENT
BEGIN:VEVENT
DTSTART;TZID=America/Los_Angeles:20220915T114500
DTEND;TZID=America/Los_Angeles:20220915T133000
DTSTAMP:20260425T061835
CREATED:20220909T230716Z
LAST-MODIFIED:20220909T230716Z
UID:26750-1663242300-1663248600@mercedhcc.com
SUMMARY:2022 Latina Women's Luncheon
DESCRIPTION:Join us for this year’s Latina Women’s Luncheon to acknowledge and recognize the accomplishments and contributions of the Latina Women throughout Merced County. \nThis years luncheon will be held at the Mainzer.\n \nThank you to our Sponsors\nAdvanced Air\nSenga Energy\nGolden valley Health Centers\nAssemblyman Adam Grey\nEl Capitan\nMainzer\nLivingston Community Health\n \nTo purchase your tickets visit our event webpage at Accelevents\n“2022 Latina Women’s Luncheon”\nFurther information can be found at www.mercedhcc.com or by calling (209) 384-9537 or emailing us at info@mercedhcc.com
URL:https://mercedhcc.com/event/2022-latina-womens-luncheon/
LOCATION:Mainzer\, 655 W. Main Street\, Merced\, CA\, 95340\, United States
ATTACH;FMTTYPE=image/jpeg:https://mercedhcc.com/wp-content/uploads/2022/09/2022-Latina-Women-Luncheon.jpg
ORGANIZER;CN="Merced County Hispanic Chamber of Commerce":MAILTO:info@mercedhcc.com
END:VEVENT
END:VCALENDAR