BEGIN:VCALENDAR
VERSION:2.0
PRODID:-//Merced Hispanic Chamber of Commerce - ECPv6.15.20//NONSGML v1.0//EN
CALSCALE:GREGORIAN
METHOD:PUBLISH
X-ORIGINAL-URL:https://mercedhcc.com
X-WR-CALDESC:Events for Merced Hispanic Chamber of Commerce
REFRESH-INTERVAL;VALUE=DURATION:PT1H
X-Robots-Tag:noindex
X-PUBLISHED-TTL:PT1H
BEGIN:VTIMEZONE
TZID:America/Los_Angeles
BEGIN:DAYLIGHT
TZOFFSETFROM:-0800
TZOFFSETTO:-0700
TZNAME:PDT
DTSTART:20210314T100000
END:DAYLIGHT
BEGIN:STANDARD
TZOFFSETFROM:-0700
TZOFFSETTO:-0800
TZNAME:PST
DTSTART:20211107T090000
END:STANDARD
BEGIN:DAYLIGHT
TZOFFSETFROM:-0800
TZOFFSETTO:-0700
TZNAME:PDT
DTSTART:20220313T100000
END:DAYLIGHT
BEGIN:STANDARD
TZOFFSETFROM:-0700
TZOFFSETTO:-0800
TZNAME:PST
DTSTART:20221106T090000
END:STANDARD
BEGIN:DAYLIGHT
TZOFFSETFROM:-0800
TZOFFSETTO:-0700
TZNAME:PDT
DTSTART:20230312T100000
END:DAYLIGHT
BEGIN:STANDARD
TZOFFSETFROM:-0700
TZOFFSETTO:-0800
TZNAME:PST
DTSTART:20231105T090000
END:STANDARD
END:VTIMEZONE
BEGIN:VEVENT
DTSTART;TZID=America/Los_Angeles:20221007T180000
DTEND;TZID=America/Los_Angeles:20221007T210000
DTSTAMP:20260425T044116
CREATED:20220926T232612Z
LAST-MODIFIED:20220926T232612Z
UID:27370-1665165600-1665176400@mercedhcc.com
SUMMARY:75th Annual Installation Dinner & Awards Ceremony
DESCRIPTION:Join us in celebrating 75 years of community service. \nWe invite our members and community partners to celebrate along with us on our Diamond anniversary. The event will be a night of community bonding as we introduce and inaugurate our 2022-2023 Board of Directors and Officers. During the awards ceremony we will have the privilege of also recognizing and celebrating the achievements of various outstanding businesses\, organizations and leaders from around Merced County. \nThe evening will begin with a cocktail social hour and continue with a warm welcome from our President Annissa Fragoso. Dinner will be served and the installation of our Board of Directors will follow. Our awards ceremony will be closing out the night. \nThroughout the event our MCHCC Scholarship Foundation will be hosting a Dessert Silent Auction to help raise proceeds for their 2023 Scholarships. \n  \nIf you know an outstanding Latino Man or Woman and would like to nominate them\, please request a nomination form by emailing us at info@mercedhcc.com. Nominations entry closes on September 28th at 4pm. \n  \nAs a non-profit 501(c)(6) organization the Merced County Hispanic Chamber of Commerce relies on your generous support to carry out the goal of advancing the economic development of small businesses in Merced County. We want to thank all our members\, partners and sponsors for your continued support.
URL:https://mercedhcc.com/event/75th-annual-installation-dinner-awards-ceremony/
LOCATION:Merced Senior Commuy Center\, 755 W. 15th Street\, Merced\, CA\, 95340\, United States
ATTACH;FMTTYPE=image/jpeg:https://mercedhcc.com/wp-content/uploads/2022/09/75th-Installation-Dinner.jpg
ORGANIZER;CN="Merced County Hispanic Chamber of Commerce":MAILTO:info@mercedhcc.com
END:VEVENT
BEGIN:VEVENT
DTSTART;TZID=America/Los_Angeles:20221022T090000
DTEND;TZID=America/Los_Angeles:20221022T140000
DTSTAMP:20260425T044116
CREATED:20221012T224116Z
LAST-MODIFIED:20221012T224116Z
UID:27811-1666429200-1666447200@mercedhcc.com
SUMMARY:GM Auto Supplies Inc. Grand Opening Ribbon Cutting
DESCRIPTION:Join us and show your support for a local Merced business.\nGM Auto Paint Supplies Inc will be having their Grand Opening ribbon cutting to celebrate their Merced location.\n \nFood\nFun\nGreat Specials\nVendor Exhibition\nSpay Gun Raffle of a Iwata Super Nove Sata 5500 Euro Spray Gun\n \nGM Auto Supplies Inc is located at 1353 W. Main Street Merced\, CA 95340\nFor more information contact GM Auto Supplies Inc at 209-722-7855
URL:https://mercedhcc.com/event/gm-auto-supplies-inc-grand-opening-ribbon-cutting/
LOCATION:GM Auto Supplies Inc\, 1353 W. Main Street\, Merced\, CA\, 95340\, United States
CATEGORIES:Ribbon Cutting
ATTACH;FMTTYPE=image/jpeg:https://mercedhcc.com/wp-content/uploads/2022/10/MERCED-GRAND-OPENING-FLYER-MC.jpg
ORGANIZER;CN="Merced County Hispanic Chamber of Commerce":MAILTO:info@mercedhcc.com
END:VEVENT
END:VCALENDAR